BEGIN:VCALENDAR
VERSION:2.0
PRODID:-//Thrive Therapy - ECPv6.15.20//NONSGML v1.0//EN
CALSCALE:GREGORIAN
METHOD:PUBLISH
X-WR-CALNAME:Thrive Therapy
X-ORIGINAL-URL:https://thrivetherapy.info
X-WR-CALDESC:Events for Thrive Therapy
REFRESH-INTERVAL;VALUE=DURATION:PT1H
X-Robots-Tag:noindex
X-PUBLISHED-TTL:PT1H
BEGIN:VTIMEZONE
TZID:America/Chicago
BEGIN:DAYLIGHT
TZOFFSETFROM:-0600
TZOFFSETTO:-0500
TZNAME:CDT
DTSTART:20230312T080000
END:DAYLIGHT
BEGIN:STANDARD
TZOFFSETFROM:-0500
TZOFFSETTO:-0600
TZNAME:CST
DTSTART:20231105T070000
END:STANDARD
BEGIN:DAYLIGHT
TZOFFSETFROM:-0600
TZOFFSETTO:-0500
TZNAME:CDT
DTSTART:20240310T080000
END:DAYLIGHT
BEGIN:STANDARD
TZOFFSETFROM:-0500
TZOFFSETTO:-0600
TZNAME:CST
DTSTART:20241103T070000
END:STANDARD
BEGIN:DAYLIGHT
TZOFFSETFROM:-0600
TZOFFSETTO:-0500
TZNAME:CDT
DTSTART:20250309T080000
END:DAYLIGHT
BEGIN:STANDARD
TZOFFSETFROM:-0500
TZOFFSETTO:-0600
TZNAME:CST
DTSTART:20251102T070000
END:STANDARD
END:VTIMEZONE
BEGIN:VEVENT
DTSTART;TZID=America/Chicago:20241206T090000
DTEND;TZID=America/Chicago:20241206T173000
DTSTAMP:20260422T231902
CREATED:20231230T041509Z
LAST-MODIFIED:20240612T194443Z
UID:1608-1733475600-1733506200@thrivetherapy.info
SUMMARY:RMTi Rhythm\, Movement and Play - Elmhurst\, IL
DESCRIPTION:One-day introductory course that teaches basic Rhythmic Movement Training International (RMTi) movements and how to use them with young children with learning\, emotional and behavioral difficulties. Hands-on learning is perfect for parents\, teachers\, educational support staff and therapists (7 CEU hours\, Illinois) who want new strategies to use.No prerequisite necessary.
URL:https://thrivetherapy.info/event/rmti-rhythm-movement-and-play-elmhurst-il-13/
LOCATION:Thrive Therapy\, 322 Montrose Avenue\, Elmhurst\, IL\, 60126
CATEGORIES:Nervous System,RMTi
ATTACH;FMTTYPE=image/jpeg:https://thrivetherapy.info/wp-content/uploads/2015/07/Thrive_blogmainpic1.jpg
END:VEVENT
END:VCALENDAR