BEGIN:VCALENDAR
VERSION:2.0
PRODID:-//Thrive Therapy - ECPv6.15.20//NONSGML v1.0//EN
CALSCALE:GREGORIAN
METHOD:PUBLISH
X-WR-CALNAME:Thrive Therapy
X-ORIGINAL-URL:https://thrivetherapy.info
X-WR-CALDESC:Events for Thrive Therapy
REFRESH-INTERVAL;VALUE=DURATION:PT1H
X-Robots-Tag:noindex
X-PUBLISHED-TTL:PT1H
BEGIN:VTIMEZONE
TZID:America/Chicago
BEGIN:DAYLIGHT
TZOFFSETFROM:-0600
TZOFFSETTO:-0500
TZNAME:CDT
DTSTART:20210314T080000
END:DAYLIGHT
BEGIN:STANDARD
TZOFFSETFROM:-0500
TZOFFSETTO:-0600
TZNAME:CST
DTSTART:20211107T070000
END:STANDARD
BEGIN:DAYLIGHT
TZOFFSETFROM:-0600
TZOFFSETTO:-0500
TZNAME:CDT
DTSTART:20220313T080000
END:DAYLIGHT
BEGIN:STANDARD
TZOFFSETFROM:-0500
TZOFFSETTO:-0600
TZNAME:CST
DTSTART:20221106T070000
END:STANDARD
BEGIN:DAYLIGHT
TZOFFSETFROM:-0600
TZOFFSETTO:-0500
TZNAME:CDT
DTSTART:20230312T080000
END:DAYLIGHT
BEGIN:STANDARD
TZOFFSETFROM:-0500
TZOFFSETTO:-0600
TZNAME:CST
DTSTART:20231105T070000
END:STANDARD
END:VTIMEZONE
BEGIN:VEVENT
DTSTART;TZID=America/Chicago:20221104T090000
DTEND;TZID=America/Chicago:20221106T173000
DTSTAMP:20260424T062749
CREATED:20220215T152604Z
LAST-MODIFIED:20220707T014856Z
UID:1281-1667552400-1667755800@thrivetherapy.info
SUMMARY:RMTi Level 1 and 2 - Elmhurst\, IL
DESCRIPTION:Three-day intensive course that teaches the background\, philosophy and movements of Rhythmic Movement Training International (RMTi). Using a mixture of lecture\, research and hands-on activities\, you’ll know how to use rhythmic movements to build stronger neural connections for motor skills\, focus\, organization\, comprehension\, memory\, emotions and behavior. Includes RMTi Level One and RMTi Level Two certifications (21 CEU hours\, Illinois). No prerequisite necessary. \nPlease click here for more info and to sign up for this course.
URL:https://thrivetherapy.info/event/rmti-level-1-and-2-3/
LOCATION:Thrive Therapy\, 322 Montrose Avenue\, Elmhurst\, IL\, 60126
ATTACH;FMTTYPE=image/jpeg:https://thrivetherapy.info/wp-content/uploads/2018/02/Thrive-Photoshoot107-scaled.jpg
END:VEVENT
END:VCALENDAR