BEGIN:VCALENDAR
VERSION:2.0
PRODID:-//Thrive Therapy - ECPv6.15.20//NONSGML v1.0//EN
CALSCALE:GREGORIAN
METHOD:PUBLISH
X-WR-CALNAME:Thrive Therapy
X-ORIGINAL-URL:https://thrivetherapy.info
X-WR-CALDESC:Events for Thrive Therapy
REFRESH-INTERVAL;VALUE=DURATION:PT1H
X-Robots-Tag:noindex
X-PUBLISHED-TTL:PT1H
BEGIN:VTIMEZONE
TZID:America/Chicago
BEGIN:DAYLIGHT
TZOFFSETFROM:-0600
TZOFFSETTO:-0500
TZNAME:CDT
DTSTART:20160313T080000
END:DAYLIGHT
BEGIN:STANDARD
TZOFFSETFROM:-0500
TZOFFSETTO:-0600
TZNAME:CST
DTSTART:20161106T070000
END:STANDARD
BEGIN:DAYLIGHT
TZOFFSETFROM:-0600
TZOFFSETTO:-0500
TZNAME:CDT
DTSTART:20170312T080000
END:DAYLIGHT
BEGIN:STANDARD
TZOFFSETFROM:-0500
TZOFFSETTO:-0600
TZNAME:CST
DTSTART:20171105T070000
END:STANDARD
BEGIN:DAYLIGHT
TZOFFSETFROM:-0600
TZOFFSETTO:-0500
TZNAME:CDT
DTSTART:20180311T080000
END:DAYLIGHT
BEGIN:STANDARD
TZOFFSETFROM:-0500
TZOFFSETTO:-0600
TZNAME:CST
DTSTART:20181104T070000
END:STANDARD
BEGIN:DAYLIGHT
TZOFFSETFROM:-0600
TZOFFSETTO:-0500
TZNAME:CDT
DTSTART:20190310T080000
END:DAYLIGHT
BEGIN:STANDARD
TZOFFSETFROM:-0500
TZOFFSETTO:-0600
TZNAME:CST
DTSTART:20191103T070000
END:STANDARD
BEGIN:DAYLIGHT
TZOFFSETFROM:-0600
TZOFFSETTO:-0500
TZNAME:CDT
DTSTART:20200308T080000
END:DAYLIGHT
BEGIN:STANDARD
TZOFFSETFROM:-0500
TZOFFSETTO:-0600
TZNAME:CST
DTSTART:20201101T070000
END:STANDARD
BEGIN:DAYLIGHT
TZOFFSETFROM:-0600
TZOFFSETTO:-0500
TZNAME:CDT
DTSTART:20210314T080000
END:DAYLIGHT
BEGIN:STANDARD
TZOFFSETFROM:-0500
TZOFFSETTO:-0600
TZNAME:CST
DTSTART:20211107T070000
END:STANDARD
BEGIN:DAYLIGHT
TZOFFSETFROM:-0600
TZOFFSETTO:-0500
TZNAME:CDT
DTSTART:20220313T080000
END:DAYLIGHT
BEGIN:STANDARD
TZOFFSETFROM:-0500
TZOFFSETTO:-0600
TZNAME:CST
DTSTART:20221106T070000
END:STANDARD
BEGIN:DAYLIGHT
TZOFFSETFROM:-0600
TZOFFSETTO:-0500
TZNAME:CDT
DTSTART:20230312T080000
END:DAYLIGHT
BEGIN:STANDARD
TZOFFSETFROM:-0500
TZOFFSETTO:-0600
TZNAME:CST
DTSTART:20231105T070000
END:STANDARD
END:VTIMEZONE
BEGIN:VEVENT
DTSTART;TZID=America/Chicago:20220318T090000
DTEND;TZID=America/Chicago:20220320T173000
DTSTAMP:20260419T213216
CREATED:20220215T151754Z
LAST-MODIFIED:20220215T190147Z
UID:1275-1647594000-1647797400@thrivetherapy.info
SUMMARY:RMTi Level 1 and 2 - Elmhurst\, IL
DESCRIPTION:Three-day intensive course that teaches the background\, philosophy and movements of Rhythmic Movement Training International (RMTi). Using a mixture of lecture\, research and hands-on activities\, you’ll know how to use rhythmic movements to build stronger neural connections for motor skills\, focus\, organization\, comprehension\, memory\, emotions and behavior. Includes RMTi Level One and RMTi Level Two certifications (21 CEU hours\, Illinois). No prerequisite necessary. \nPlease click here for more information and to sign up for this event.
URL:https://thrivetherapy.info/event/rmti-level-1-and-2/
LOCATION:Thrive\, 322 Montrose Avenue\, Elmhurst\, Illinois\, 60126
CATEGORIES:RMTi
ATTACH;FMTTYPE=image/jpeg:https://thrivetherapy.info/wp-content/uploads/2017/07/Unknown.jpeg
END:VEVENT
BEGIN:VEVENT
DTSTART;TZID=America/Chicago:20200202T081500
DTEND;TZID=America/Chicago:20200204T163000
DTSTAMP:20260419T213216
CREATED:20190930T165654Z
LAST-MODIFIED:20200128T024116Z
UID:1068-1580631300-1580833800@thrivetherapy.info
SUMMARY:RMTi Level 1 and 2 - Long Island\, NY
DESCRIPTION:Three-day intensive course that teaches the background\, philosophy and movements of Rhythmic Movement Training International (RMTi). Using a mixture of lecture\, research and hands-on activities\, you’ll know how to use rhythmic movements to build stronger neural connections for motor skills\, focus\, organization\, comprehension\, memory\, emotions and behavior. Includes RMTi Level One and RMTi Level Two certifications (21 CEU hours). No prerequisite necessary. \n  \nPlease click here for full course details.
URL:https://thrivetherapy.info/event/rmti-level-1-and-2-long-island-ny/
LOCATION:Long Island\, NY
CATEGORIES:Nervous System,RMTi
ATTACH;FMTTYPE=image/jpeg:https://thrivetherapy.info/wp-content/uploads/2018/02/Thrive-Photoshoot107-scaled.jpg
END:VEVENT
BEGIN:VEVENT
DTSTART;TZID=America/Chicago:20191206T090000
DTEND;TZID=America/Chicago:20191206T173000
DTSTAMP:20260419T213216
CREATED:20190812T204549Z
LAST-MODIFIED:20200116T005421Z
UID:1037-1575622800-1575653400@thrivetherapy.info
SUMMARY:RMTi Rhythm\, Movement and Play
DESCRIPTION:Rhythm\, Movement and Play is an introductory one day course for people wishing to learn the philosophy of Rhythmic Movement Training (RMTi). Participants leave knowing how to do several of the basic movements and how to use them. This is a perfect course for parents\, teachers\, educational support staff\, therapists… This course is approved for 7 CEU’s per the Illinois Physical Therapy Association (IPTA) and the Illinois Occupational Therapy Association (IOTA)  \nThe Illinois Early Intervention Training Program has approved this event for 7 hours of EI credential credit in the area of 1.0 hour Atypical Development\, 5 hours Intervention\n1.0 hour Typical Development Course Details \n  \nRegister
URL:https://thrivetherapy.info/event/rmti-rhythm-movement-and-play-9/
LOCATION:Thrive Therapy\, 322 Montrose Avenue\, Elmhurst\, IL\, 60126
CATEGORIES:Nervous System,RMTi
ATTACH;FMTTYPE=image/jpeg:https://thrivetherapy.info/wp-content/uploads/2019/04/Unknown-1-2.jpeg
END:VEVENT
BEGIN:VEVENT
DTSTART;TZID=America/Chicago:20191116T090000
DTEND;TZID=America/Chicago:20191116T173000
DTSTAMP:20260419T213216
CREATED:20190916T175735Z
LAST-MODIFIED:20190916T180350Z
UID:1057-1573894800-1573925400@thrivetherapy.info
SUMMARY:Rhythm\, Movement and Play in Chicago
DESCRIPTION:Rhythm\, Movement and Play is an introductory one day course for people wishing to learn the philosophy of Rhythmic Movement Training (RMTi). Participants leave knowing how to do several of the basic movements and how to use them. This is a perfect course for parents\, teachers\, educational support staff\, therapists… This course is approved for 7 CEU’s per the Illinois Physical Therapy Association (IPTA) and the Illinois Occupational Therapy Association (IOTA) and 7 CEU’s per Illinois Early Intervention. Space is limited\, so please reserve your spot by emailing Thrive. \nPlease see detailed flyer for information
URL:https://thrivetherapy.info/event/rhythm-movement-and-play/
LOCATION:MakeOffice\, 350 N. Orleans Street\, Chicago\, IL\, 60654\, United States
CATEGORIES:Nervous System,RMTi
ATTACH;FMTTYPE=image/jpeg:https://thrivetherapy.info/wp-content/uploads/2019/04/Unknown-1-2.jpeg
END:VEVENT
BEGIN:VEVENT
DTSTART;TZID=America/Chicago:20191101T090000
DTEND;TZID=America/Chicago:20191103T173000
DTSTAMP:20260419T213216
CREATED:20190315T223013Z
LAST-MODIFIED:20190815T172248Z
UID:990-1572598800-1572802200@thrivetherapy.info
SUMMARY:RMTi Level 1 & 2
DESCRIPTION:Rhythmic Movement Training Level 1 and Level 2 is a continuing Education Course concentrating on reflex integration. This is a perfect course to build a foundation for the background\, philosophy and movements involved in RMTi (Rhythmic Movement Training International) . Throughout the 3-day course\, one will learn information related to focus\, organization and comprehension\, memory\, emotions and behavior.  No prerequisite necessary. This course is approved for 21 CEU’s per the Illinois Physical Therapy Associations (IPTA) and Illinois Occupational Association (IOTA) and Illinois Early Intervention. Please inquirer for details to Thrive \nPlease see Detailed Flyer \nRegister
URL:https://thrivetherapy.info/event/rmti-level-1-2-5/
LOCATION:Thrive Therapy\, 322 Montrose Avenue\, Elmhurst\, IL\, 60126
CATEGORIES:Nervous System,RMTi
ATTACH;FMTTYPE=image/jpeg:https://thrivetherapy.info/wp-content/uploads/2018/02/Thrive-Photoshoot107-scaled.jpg
END:VEVENT
BEGIN:VEVENT
DTSTART;TZID=America/Chicago:20191024T080000
DTEND;TZID=America/Chicago:20191024T163000
DTSTAMP:20260419T213216
CREATED:20190930T170250Z
LAST-MODIFIED:20190930T170404Z
UID:1073-1571904000-1571934600@thrivetherapy.info
SUMMARY:Rhythm\, Movement and Play - Charleston\, SC
DESCRIPTION:Rhythm\, Movement and Play is an introductory one day course for people wishing to learn the philosophy of Rhythmic Movement Training (RMTi). Participants leave knowing how to do several of the basic movements and how to use them. This is a perfect course for parents\, teachers\, educational support staff\, therapists… This event is private.  Please inquire about having a private training at your facility.
URL:https://thrivetherapy.info/event/rhythm-movement-and-play-charleston-sc/
LOCATION:Illinois
CATEGORIES:Nervous System,RMTi
ATTACH;FMTTYPE=image/jpeg:https://thrivetherapy.info/wp-content/uploads/2019/04/Unknown-1-2.jpeg
END:VEVENT
BEGIN:VEVENT
DTSTART;TZID=America/Chicago:20191004T090000
DTEND;TZID=America/Chicago:20191004T170000
DTSTAMP:20260419T213216
CREATED:20190812T203820Z
LAST-MODIFIED:20190815T170812Z
UID:1033-1570179600-1570208400@thrivetherapy.info
SUMMARY:RMTi Rhythm\, Movement and Play
DESCRIPTION:Rhythm\, Movement and Play is an introductory one day course for people wishing to learn the philosophy of Rhythmic Movement Training (RMTi). Participants leave knowing how to do several of the basic movements and how to use them. This is a perfect course for parents\, teachers\, educational support staff\, therapists… This course is approved for 7 CEU’s per the Illinois Physical Therapy Association (IPTA) and the Illinois Occupational Therapy Association (IOTA) and 7 CEU’s per Illinois Early Intervention. Space is limited\, so please reserve your spot by emailing Thrive. \nPlease see detailed Flyer \nRegister Here
URL:https://thrivetherapy.info/event/rmti-rhythm-movement-and-play-8/
LOCATION:Thrive Therapy\, 322 Montrose Avenue\, Elmhurst\, IL\, 60126
CATEGORIES:Nervous System,RMTi
ATTACH;FMTTYPE=image/jpeg:https://thrivetherapy.info/wp-content/uploads/2019/04/Unknown-1-2.jpeg
END:VEVENT
BEGIN:VEVENT
DTSTART;TZID=America/Chicago:20190927T080000
DTEND;TZID=America/Chicago:20190927T170000
DTSTAMP:20260419T213216
CREATED:20190903T215612Z
LAST-MODIFIED:20190903T215612Z
UID:1048-1569571200-1569603600@thrivetherapy.info
SUMMARY:Learn about THRIVE
DESCRIPTION:Come learn about the unique services at THRIVE at Courts Plus in Elmhurst.
URL:https://thrivetherapy.info/event/learn-about-thrive/
LOCATION:Courts Plus\, 186 S. West Avenue\, Elmhurst\, IL\, 60126\, United States
CATEGORIES:Nervous System,Nutrition,RMTi
ATTACH;FMTTYPE=image/jpeg:https://thrivetherapy.info/wp-content/uploads/2017/06/Thrive_storefront2_insurance.jpg
END:VEVENT
BEGIN:VEVENT
DTSTART;TZID=America/Chicago:20190913T080000
DTEND;TZID=America/Chicago:20190913T160000
DTSTAMP:20260419T213216
CREATED:20190812T190515Z
LAST-MODIFIED:20190812T190729Z
UID:1028-1568361600-1568390400@thrivetherapy.info
SUMMARY:RMTi Rhythm\, Movement and Play
DESCRIPTION:Rhythm\, Movement and Play is an introductory one day course for people wishing to learn the philosophy of Rhythmic Movement Training (RMTi). Participants leave knowing how to do several of the basic movements and how to use them. This is a perfect course for parents\, teachers\, educational support staff\, therapists… This course is approved for 7 CEU’s per the Illinois Physical Therapy Association (IPTA) and the Illinois Occupational Therapy Association (IOTA) and 7 CEU’s per Illinois Early Intervention. This event is private.  Please inquire about having a private training at your facility.
URL:https://thrivetherapy.info/event/rmti-rhythm-movement-and-play-7/
LOCATION:Wheaton\, IL
CATEGORIES:Nervous System,RMTi
ATTACH;FMTTYPE=image/jpeg:https://thrivetherapy.info/wp-content/uploads/2019/04/Unknown-1-2.jpeg
END:VEVENT
BEGIN:VEVENT
DTSTART;TZID=America/Chicago:20190816T090000
DTEND;TZID=America/Chicago:20190816T170000
DTSTAMP:20260419T213216
CREATED:20190812T185414Z
LAST-MODIFIED:20190812T190017Z
UID:1022-1565946000-1565974800@thrivetherapy.info
SUMMARY:RMTi Rhythm\, Movement and Play
DESCRIPTION:Rhythm\, Movement and Play is an introductory one day course for people wishing to learn the philosophy of Rhythmic Movement Training (RMTi). Participants leave knowing how to do several of the basic movements and how to use them. This is a perfect course for parents\, teachers\, educational support staff\, therapists… This course is approved for 7 CEU’s per the Illinois Physical Therapy Association (IPTA) and the Illinois Occupational Therapy Association (IOTA) and 7 CEU’s per Illinois Early Intervention. Space is limited\, so please reserve your spot by emailing Thrive. \nPlease view Detailed Flyer \nRegister Here
URL:https://thrivetherapy.info/event/rmti-rhythm-movement-and-play-6/
LOCATION:Thrive Therapy\, 322 Montrose Avenue\, Elmhurst\, IL\, 60126
CATEGORIES:Nervous System,RMTi
ATTACH;FMTTYPE=image/jpeg:https://thrivetherapy.info/wp-content/uploads/2019/04/Unknown-1-2.jpeg
END:VEVENT
BEGIN:VEVENT
DTSTART;TZID=America/Chicago:20190719T090000
DTEND;TZID=America/Chicago:20190721T173000
DTSTAMP:20260419T213216
CREATED:20190315T222807Z
LAST-MODIFIED:20190411T180019Z
UID:988-1563526800-1563730200@thrivetherapy.info
SUMMARY:RMTi Level 1 & 2
DESCRIPTION:A Continuing Education Course concentrating on reflex integration. This is a perfect course to build a foundation for the background\, philosophy and movements involved in RMTi (Rhythmic Movement Training International) . No prerequisite necessary. This course is approved for 21 CEU’s per the Illinois Physical Therapy Associations (IPTA)\, Illinois Early Intervention and Illinois Occupational Therapy Association  Please inquirer for details to Thrive
URL:https://thrivetherapy.info/event/rmti-level-1-2-4/
LOCATION:Thrive Therapy\, 322 Montrose Avenue\, Elmhurst\, IL\, 60126
CATEGORIES:Nervous System,RMTi
ATTACH;FMTTYPE=image/jpeg:https://thrivetherapy.info/wp-content/uploads/2018/02/Thrive-Photoshoot107-scaled.jpg
END:VEVENT
BEGIN:VEVENT
DTSTART;TZID=America/Chicago:20190607T090000
DTEND;TZID=America/Chicago:20190607T170000
DTSTAMP:20260419T213216
CREATED:20190411T175316Z
LAST-MODIFIED:20190411T185023Z
UID:1006-1559898000-1559926800@thrivetherapy.info
SUMMARY:RMTi Rhythm\, Movement and Play
DESCRIPTION:Rhythm\, Movement and Play is an introductory one day course for people wishing to learn the philosophy of Rhythmic Movement Training (RMTi). Participants leave knowing how to do several of the basic movements and how to use them. This is a perfect course for parents\, teachers\, educational support staff\, therapists… This course is approved for 7 CEU’s per the Illinois Physical Therapy Associations (IPTA) and 7 CEU’s per Illinois Early Intervention. Space is limited\, so please reserve your spot by emailing Thrive. \nLearn More.
URL:https://thrivetherapy.info/event/rmti-rhythm-movement-and-play-5/
LOCATION:Thrive Therapy\, 322 Montrose Avenue\, Elmhurst\, IL\, 60126
CATEGORIES:Nervous System,RMTi
ATTACH;FMTTYPE=image/jpeg:https://thrivetherapy.info/wp-content/uploads/2019/04/Unknown-1-2.jpeg
END:VEVENT
BEGIN:VEVENT
DTSTART;TZID=America/Chicago:20190503T090000
DTEND;TZID=America/Chicago:20190505T173000
DTSTAMP:20260419T213216
CREATED:20190315T222208Z
LAST-MODIFIED:20190411T180053Z
UID:982-1556874000-1557077400@thrivetherapy.info
SUMMARY:RMTi Level 1 & 2
DESCRIPTION:A Continuing Education Course concentrating on reflex integration. This is a perfect course to build a foundation for the background\, philosophy and movements involved in RMTi (Rhythmic Movement Training International) . No prerequisite necessary. This course is approved for 21 CEU’s per the Illinois Physical Therapy Associations (IPTA)\, Illinois Early Intervention and Illinois Occupational Therapy Association  Please inquirer for details to Thrive
URL:https://thrivetherapy.info/event/rmti-level-1-2-3/
LOCATION:Thrive Therapy\, 322 Montrose Avenue\, Elmhurst\, IL\, 60126
CATEGORIES:Nervous System,RMTi
ATTACH;FMTTYPE=image/jpeg:https://thrivetherapy.info/wp-content/uploads/2018/02/Thrive-Photoshoot107-scaled.jpg
END:VEVENT
BEGIN:VEVENT
DTSTART;TZID=America/Chicago:20190428T120000
DTEND;TZID=America/Chicago:20190428T170000
DTSTAMP:20260419T213216
CREATED:20190411T000647Z
LAST-MODIFIED:20190411T000647Z
UID:1002-1556452800-1556470800@thrivetherapy.info
SUMMARY:THRIVE Open House
DESCRIPTION:Come check out Thrive.  There will be Tower Gardens\, learning about RMTi\, Irlen and yoga lead by special guests.
URL:https://thrivetherapy.info/event/thrive-open-house/
LOCATION:Thrive Therapy\, 322 Montrose Avenue\, Elmhurst\, IL\, 60126
CATEGORIES:Irlen,Nervous System,Nutrition,RMTi
ATTACH;FMTTYPE=image/jpeg:https://thrivetherapy.info/wp-content/uploads/2019/04/fullsizeoutput_8d.jpeg
END:VEVENT
BEGIN:VEVENT
DTSTART;VALUE=DATE:20190208
DTEND;VALUE=DATE:20190211
DTSTAMP:20260419T213216
CREATED:20180913T192511Z
LAST-MODIFIED:20180913T193529Z
UID:889-1549584000-1549843199@thrivetherapy.info
SUMMARY:RMTi Level 1 & 2 - Elmhurst\, IL
DESCRIPTION:A Continuing Education Course for Rhythmic Movement Training International. This is a perfect course to build a foundation for the background\, philosophy and movements involved in RMTi. No prerequisite necessary. This course is approved for 21 CEU’s per the Illinois Physical Therapy Associations (IPTA) Please inquirer for details to Thrive or see the flyer below: \nRMTI-Level 1 and 2 _ FLYER_Elmhurst\, IL_February 2019
URL:https://thrivetherapy.info/event/rmti-level-1-2-elmhurst-il/
LOCATION:Thrive Therapy\, 322 Montrose Avenue\, Elmhurst\, IL\, 60126
CATEGORIES:Nervous System,RMTi
ATTACH;FMTTYPE=image/jpeg:https://thrivetherapy.info/wp-content/uploads/2018/02/Thrive-Photoshoot107-scaled.jpg
END:VEVENT
BEGIN:VEVENT
DTSTART;TZID=America/Chicago:20190125T090000
DTEND;TZID=America/Chicago:20190125T173000
DTSTAMP:20260419T213216
CREATED:20181219T000101Z
LAST-MODIFIED:20181219T001402Z
UID:959-1548406800-1548437400@thrivetherapy.info
SUMMARY:RMTi Rhythm\, Movement and Play
DESCRIPTION:Rhythm\, Movement and Play is an introductory one day course for people wishing to learn the philosophy of Rhythmic Movement Training (RMTi). Participants leave knowing how to do several of the basic movements and how to use them. This is a perfect course for parents\, teachers\, educational support staff\, therapists… This course is approved for 7 CEU’s per the Illinois Physical Therapy Associations (IPTA) and 7 CEU’s per Illinois Early Intervention. Space is limited\, so please reserve your spot by emailing Thrive. \nClick here to view flyer
URL:https://thrivetherapy.info/event/rmti-rhythm-movement-and-play-4/
LOCATION:Thrive Therapy\, 322 Montrose Avenue\, Elmhurst\, IL\, 60126
CATEGORIES:Nervous System,RMTi
ATTACH;FMTTYPE=image/jpeg:https://thrivetherapy.info/wp-content/uploads/2018/02/Thrive-Photoshoot107-scaled.jpg
END:VEVENT
BEGIN:VEVENT
DTSTART;TZID=America/Chicago:20181207T080000
DTEND;TZID=America/Chicago:20181207T170000
DTSTAMP:20260419T213216
CREATED:20181008T011904Z
LAST-MODIFIED:20181008T164521Z
UID:940-1544169600-1544202000@thrivetherapy.info
SUMMARY:RMTi Rhythm\, Movement and Play
DESCRIPTION:Rhythm\, Movement and Play is an introductory one day course for people wishing to learn the philosophy of Rhythmic Movement Training (RMTi). Participants leave knowing how to do several of the basic movements and how to use them. This is a perfect course for parents\, teachers\, educational support staff\, therapists… This course is approved for 7 CEU’s per the Illinois Physical Therapy Associations (IPTA). Space is limited\, so please reserve your spot by emailing Thrive. \nPress Here to Learn More about the Course \n 
URL:https://thrivetherapy.info/event/rmti-rhythm-movement-and-play-3/
LOCATION:Thrive Therapy\, 322 Montrose Avenue\, Elmhurst\, IL\, 60126
CATEGORIES:Nervous System,RMTi
ATTACH;FMTTYPE=image/jpeg:https://thrivetherapy.info/wp-content/uploads/2018/02/Thrive-Photoshoot107-scaled.jpg
END:VEVENT
BEGIN:VEVENT
DTSTART;VALUE=DATE:20181102
DTEND;VALUE=DATE:20181103
DTSTAMP:20260419T213216
CREATED:20180913T192639Z
LAST-MODIFIED:20181008T164444Z
UID:878-1541116800-1541203199@thrivetherapy.info
SUMMARY:RMTi Rhythm\, Movement and Play
DESCRIPTION:Rhythm\, Movement and Play is an introductory one day course for people wishing to learn the philosophy of Rhythmic Movement Training (RMTi). Participants leave knowing how to do several of the basic movements and how to use them. This is a perfect course for parents\, teachers\, educational support staff\, therapists… This course is approved for 7 CEU’s per the Illinois Physical Therapy Associations (IPTA). Space is limited\, so please reserve your spot by emailing Thrive. \nPress Here to Learn More about the Course
URL:https://thrivetherapy.info/event/rmti-rhythm-movement-and-play-2/
LOCATION:Thrive Therapy\, 322 Montrose Avenue\, Elmhurst\, IL\, 60126
CATEGORIES:Nervous System,RMTi
ATTACH;FMTTYPE=image/jpeg:https://thrivetherapy.info/wp-content/uploads/2018/02/Thrive-Photoshoot107-scaled.jpg
END:VEVENT
BEGIN:VEVENT
DTSTART;TZID=America/Chicago:20180913T170000
DTEND;TZID=America/Chicago:20180913T190000
DTSTAMP:20260419T213216
CREATED:20180913T192823Z
LAST-MODIFIED:20180915T011846Z
UID:891-1536858000-1536865200@thrivetherapy.info
SUMMARY:Fusion Fall Showcase
DESCRIPTION:In conjunction with Fusion Academy’s Curriculum Night\, Thrive has been invited to participate in their Fall Showcase. This Showcase will offer a learning experience for parents to explore some of the great services available in the community. Thrive will be sharing information about our philosophy\, the concepts of Reflex Integration\, Irlen and Foundational Nutrition. \nThis is a private event\, yet please inquire about learning opportunities that Thrive can tailor to your needs.
URL:https://thrivetherapy.info/event/fusion-fall-showcase/
LOCATION:Fusion\, 3041 Butterfield Road S\, Oak Brook\, IL\, 60523
CATEGORIES:Irlen,Nervous System,Nutrition,RMTi
ATTACH;FMTTYPE=image/png:https://thrivetherapy.info/wp-content/uploads/2018/09/Unknown.png
END:VEVENT
BEGIN:VEVENT
DTSTART;VALUE=DATE:20180830
DTEND;VALUE=DATE:20180903
DTSTAMP:20260419T213216
CREATED:20180531T205427Z
LAST-MODIFIED:20180531T205427Z
UID:865-1535587200-1535932799@thrivetherapy.info
SUMMARY:Balanced Life Wellness Retreat
DESCRIPTION:I am excited to have been invited to this wonderful retreat as a guest speaker. I will be sharing some basic movement techniques that I use at Thrive\, along with information about the benefits of Whole Food Nutrition. A fun week-end of learning\, movement\, nature and self-care. Click here to learn how you can participate.
URL:https://thrivetherapy.info/event/balanced-life-wellness-retreat/
LOCATION:Illinois
CATEGORIES:Nervous System,Nutrition,RMTi
ATTACH;FMTTYPE=image/jpeg:https://thrivetherapy.info/wp-content/uploads/2015/07/Thrive_EHickman_headshot1_300.jpg
END:VEVENT
BEGIN:VEVENT
DTSTART;VALUE=DATE:20180614
DTEND;VALUE=DATE:20180616
DTSTAMP:20260419T213216
CREATED:20180226T023043Z
LAST-MODIFIED:20180530T192709Z
UID:807-1528934400-1529107199@thrivetherapy.info
SUMMARY:RMTi Making Connections
DESCRIPTION:This is a new course being taught by Moira Dempsey. It dives deep into the neurology behind brain development and reflex integration. This course does not have any prerequisite. This course is approved for 14 CEU’s per the Illinois Physical Therapy Associations (IPTA). Please inquirer for details to Thrive.
URL:https://thrivetherapy.info/event/neural-connections/
LOCATION:Thrive Therapy\, 322 Montrose Avenue\, Elmhurst\, IL\, 60126
CATEGORIES:Nervous System,RMTi
ATTACH;FMTTYPE=image/jpeg:https://thrivetherapy.info/wp-content/uploads/2018/02/Thrive-Photoshoot107-scaled.jpg
END:VEVENT
BEGIN:VEVENT
DTSTART;VALUE=DATE:20180613
DTEND;VALUE=DATE:20180614
DTSTAMP:20260419T213216
CREATED:20180530T192150Z
LAST-MODIFIED:20180530T192752Z
UID:844-1528848000-1528934399@thrivetherapy.info
SUMMARY:RMTi Rhythm\, Movement and Play
DESCRIPTION:Rhythm\, Movement and Play is an introductory one day course for people wishing to learn the philosophy of Rhythmic Movement Training (RMT). Participants will learn several of the basic movements and how to use them. This is a perfect course for parents\, teachers\, educational support staff\, therapists… This course is approved for 7 CEU’s per the Illinois Physical Therapy Associations (IPTA).  Please inquirer for details to Thrive.
URL:https://thrivetherapy.info/event/rmti-rhythm-movement-and-play/
LOCATION:Thrive Therapy\, 322 Montrose Avenue\, Elmhurst\, IL\, 60126
CATEGORIES:Nervous System,RMTi
ATTACH;FMTTYPE=image/jpeg:https://thrivetherapy.info/wp-content/uploads/2018/02/Thrive-Photoshoot107-scaled.jpg
END:VEVENT
BEGIN:VEVENT
DTSTART;VALUE=DATE:20180427
DTEND;VALUE=DATE:20180430
DTSTAMP:20260419T213216
CREATED:20180322T191255Z
LAST-MODIFIED:20180322T192558Z
UID:818-1524787200-1525046399@thrivetherapy.info
SUMMARY:RMTi Level 1 & 2 - Casper\, WY
DESCRIPTION:A Continuing Education Course for Rhythmic Movement Training International.  This is a perfect course to build a foundation for the background\, philosophy and movements involved in RMTi.  No prerequisite necessary.  I will be Co-teaching this course with Moira Dempsey.   Please inquirer for details to Thrive.
URL:https://thrivetherapy.info/event/rmti-level-1-2-2/
LOCATION:Casper\, WY
CATEGORIES:RMTi
ATTACH;FMTTYPE=image/jpeg:https://thrivetherapy.info/wp-content/uploads/2018/02/Thrive-Photoshoot107-scaled.jpg
END:VEVENT
BEGIN:VEVENT
DTSTART;TZID=America/Chicago:20180421T090000
DTEND;TZID=America/Chicago:20180421T120000
DTSTAMP:20260419T213216
CREATED:20180212T195527Z
LAST-MODIFIED:20180212T200746Z
UID:786-1524301200-1524312000@thrivetherapy.info
SUMMARY:Health Fair
DESCRIPTION:Thrive will be collaborating with other community organizations to help educate\, encourage and provide opportunities for leading a healthy life style.  All aspects of Thrive will be showcased at this event.
URL:https://thrivetherapy.info/event/health-fai/
LOCATION:Courts Plus\, 186 S. West Avenue\, Elmhurst\, IL\, 60126\, United States
CATEGORIES:Irlen,Nervous System,Nutrition,RMTi
ATTACH;FMTTYPE=image/jpeg:https://thrivetherapy.info/wp-content/uploads/2017/06/Thrive_storefront2_insurance.jpg
END:VEVENT
BEGIN:VEVENT
DTSTART;VALUE=DATE:20180323
DTEND;VALUE=DATE:20180326
DTSTAMP:20260419T213216
CREATED:20180226T021844Z
LAST-MODIFIED:20180322T192622Z
UID:801-1521763200-1522022399@thrivetherapy.info
SUMMARY:RMTi Level 1 & 2
DESCRIPTION:A Continuing Education Course for Rhythmic Movement Training International.  This is a perfect course to build a foundation for the background\, philosophy and movements involved in RMTi.  No prerequisite necessary.  I will be Co-teaching this course with Moira Dempsey.  Please inquirer for details to Thrive.
URL:https://thrivetherapy.info/event/rmti-level-1-2/
LOCATION:Long Island\, NY
CATEGORIES:Nervous System,RMTi
ATTACH;FMTTYPE=image/jpeg:https://thrivetherapy.info/wp-content/uploads/2018/02/Thrive-Photoshoot107-scaled.jpg
END:VEVENT
BEGIN:VEVENT
DTSTART;VALUE=DATE:20170808
DTEND;VALUE=DATE:20170810
DTSTAMP:20260419T213216
CREATED:20170706T190257Z
LAST-MODIFIED:20171012T201743Z
UID:491-1502150400-1502323199@thrivetherapy.info
SUMMARY:Face The Fear
DESCRIPTION:We are excited to invite you to “Face the Fear” with Moira Dempsey. After completing RMTi Level 1 and Level 2\, “Face the Fear” further enhances your knowledge and skills of reflex training. \nBuy Tickets\n  \n 
URL:https://thrivetherapy.info/event/face-the-fear/
LOCATION:Thrive Therapy\, 322 Montrose Avenue\, Elmhurst\, IL\, 60126
CATEGORIES:RMTi
ATTACH;FMTTYPE=image/jpeg:https://thrivetherapy.info/wp-content/uploads/2017/07/Unknown.jpeg
END:VEVENT
END:VCALENDAR