BEGIN:VCALENDAR
VERSION:2.0
PRODID:-//Thrive Therapy - ECPv6.15.20//NONSGML v1.0//EN
CALSCALE:GREGORIAN
METHOD:PUBLISH
X-ORIGINAL-URL:https://thrivetherapy.info
X-WR-CALDESC:Events for Thrive Therapy
REFRESH-INTERVAL;VALUE=DURATION:PT1H
X-Robots-Tag:noindex
X-PUBLISHED-TTL:PT1H
BEGIN:VTIMEZONE
TZID:America/Chicago
BEGIN:DAYLIGHT
TZOFFSETFROM:-0600
TZOFFSETTO:-0500
TZNAME:CDT
DTSTART:20160313T080000
END:DAYLIGHT
BEGIN:STANDARD
TZOFFSETFROM:-0500
TZOFFSETTO:-0600
TZNAME:CST
DTSTART:20161106T070000
END:STANDARD
BEGIN:DAYLIGHT
TZOFFSETFROM:-0600
TZOFFSETTO:-0500
TZNAME:CDT
DTSTART:20170312T080000
END:DAYLIGHT
BEGIN:STANDARD
TZOFFSETFROM:-0500
TZOFFSETTO:-0600
TZNAME:CST
DTSTART:20171105T070000
END:STANDARD
BEGIN:DAYLIGHT
TZOFFSETFROM:-0600
TZOFFSETTO:-0500
TZNAME:CDT
DTSTART:20180311T080000
END:DAYLIGHT
BEGIN:STANDARD
TZOFFSETFROM:-0500
TZOFFSETTO:-0600
TZNAME:CST
DTSTART:20181104T070000
END:STANDARD
BEGIN:DAYLIGHT
TZOFFSETFROM:-0600
TZOFFSETTO:-0500
TZNAME:CDT
DTSTART:20190310T080000
END:DAYLIGHT
BEGIN:STANDARD
TZOFFSETFROM:-0500
TZOFFSETTO:-0600
TZNAME:CST
DTSTART:20191103T070000
END:STANDARD
BEGIN:DAYLIGHT
TZOFFSETFROM:-0600
TZOFFSETTO:-0500
TZNAME:CDT
DTSTART:20200308T080000
END:DAYLIGHT
BEGIN:STANDARD
TZOFFSETFROM:-0500
TZOFFSETTO:-0600
TZNAME:CST
DTSTART:20201101T070000
END:STANDARD
END:VTIMEZONE
BEGIN:VEVENT
DTSTART;TZID=America/Chicago:20190927T080000
DTEND;TZID=America/Chicago:20190927T170000
DTSTAMP:20260419T222657
CREATED:20190903T215612Z
LAST-MODIFIED:20190903T215612Z
UID:1048-1569571200-1569603600@thrivetherapy.info
SUMMARY:Learn about THRIVE
DESCRIPTION:Come learn about the unique services at THRIVE at Courts Plus in Elmhurst.
URL:https://thrivetherapy.info/event/learn-about-thrive/
LOCATION:Courts Plus\, 186 S. West Avenue\, Elmhurst\, IL\, 60126\, United States
CATEGORIES:Nervous System,Nutrition,RMTi
ATTACH;FMTTYPE=image/jpeg:https://thrivetherapy.info/wp-content/uploads/2017/06/Thrive_storefront2_insurance.jpg
END:VEVENT
BEGIN:VEVENT
DTSTART;TZID=America/Chicago:20190925T100000
DTEND;TZID=America/Chicago:20190925T140000
DTSTAMP:20260419T222657
CREATED:20190903T220128Z
LAST-MODIFIED:20190903T220549Z
UID:1050-1569405600-1569420000@thrivetherapy.info
SUMMARY:THRIVE talking Nutrition in Chicago!
DESCRIPTION:Private event for small cooperations and businesses to learn how to use the power of nutrition to THRIVE. \nInquire here on how we can help empower your own private group.
URL:https://thrivetherapy.info/event/thrive-talking-nutrition-in-chicago/
LOCATION:MakeOffice\, 350 N. Orleans Street\, Chicago\, IL\, 60654
CATEGORIES:Nutrition
ATTACH;FMTTYPE=image/jpeg:https://thrivetherapy.info/wp-content/uploads/2017/09/iStock-518296495-scaled.jpg
END:VEVENT
BEGIN:VEVENT
DTSTART;TZID=America/Chicago:20190428T120000
DTEND;TZID=America/Chicago:20190428T170000
DTSTAMP:20260419T222657
CREATED:20190411T000647Z
LAST-MODIFIED:20190411T000647Z
UID:1002-1556452800-1556470800@thrivetherapy.info
SUMMARY:THRIVE Open House
DESCRIPTION:Come check out Thrive.  There will be Tower Gardens\, learning about RMTi\, Irlen and yoga lead by special guests.
URL:https://thrivetherapy.info/event/thrive-open-house/
LOCATION:Thrive Therapy\, 322 Montrose Avenue\, Elmhurst\, IL\, 60126
CATEGORIES:Irlen,Nervous System,Nutrition,RMTi
ATTACH;FMTTYPE=image/jpeg:https://thrivetherapy.info/wp-content/uploads/2019/04/fullsizeoutput_8d.jpeg
END:VEVENT
BEGIN:VEVENT
DTSTART;TZID=America/Chicago:20190310T120000
DTEND;TZID=America/Chicago:20190310T140000
DTSTAMP:20260419T222657
CREATED:20190318T164843Z
LAST-MODIFIED:20190318T164843Z
UID:994-1552219200-1552226400@thrivetherapy.info
SUMMARY:Team Thrive Connection
DESCRIPTION:Opportunity to connect with like minded people about the power of nutrition. \nPlease inquire for details about our mission.
URL:https://thrivetherapy.info/event/team-thrive-connection-3/
LOCATION:IL
CATEGORIES:Nutrition
ATTACH;FMTTYPE=image/jpeg:https://thrivetherapy.info/wp-content/uploads/2017/09/iStock-518296495-scaled.jpg
END:VEVENT
BEGIN:VEVENT
DTSTART;TZID=America/Chicago:20190208T190000
DTEND;TZID=America/Chicago:20190208T200000
DTSTAMP:20260419T222657
CREATED:20190117T231500Z
LAST-MODIFIED:20190117T231500Z
UID:976-1549652400-1549656000@thrivetherapy.info
SUMMARY:Medical Panel
DESCRIPTION:Amazing local Medical Panel will discuss how they educate their patients about the power of Nutrition for maintaining health and wellness. \n \nRSVP to Thrive for FREE entry.
URL:https://thrivetherapy.info/event/medical-panel/
LOCATION:Hilton Lisle\, 3003 W. Coorporate Drive\, Lisle\, IL\, 60532
CATEGORIES:Nutrition
ATTACH;FMTTYPE=image/jpeg:https://thrivetherapy.info/wp-content/uploads/2017/09/iStock-658506092-scaled.jpg
END:VEVENT
BEGIN:VEVENT
DTSTART;TZID=America/Chicago:20190203T120000
DTEND;TZID=America/Chicago:20190203T140000
DTSTAMP:20260419T222657
CREATED:20190117T230848Z
LAST-MODIFIED:20190117T230848Z
UID:974-1549195200-1549202400@thrivetherapy.info
SUMMARY:Team Thrive Connection
DESCRIPTION:Opportunity to connect with like minded people about the power of nutrition. \nPlease inquire for details about our mission.
URL:https://thrivetherapy.info/event/team-thrive-connection-2/
LOCATION:IL
CATEGORIES:Nutrition
ATTACH;FMTTYPE=image/jpeg:https://thrivetherapy.info/wp-content/uploads/2017/09/iStock-518296495-scaled.jpg
END:VEVENT
BEGIN:VEVENT
DTSTART;TZID=America/Chicago:20190118T193000
DTEND;TZID=America/Chicago:20190118T203000
DTSTAMP:20260419T222657
CREATED:20181219T000914Z
LAST-MODIFIED:20181219T001532Z
UID:962-1547839800-1547843400@thrivetherapy.info
SUMMARY:Maintaining Health:  A Personal Responsibility
DESCRIPTION:Dr. DuBois will explain the role of whole food plant based nutrition as the foundation for maintaining health and reducing the risk of disease. \n \nRSVP to Thrive for FREE entry.
URL:https://thrivetherapy.info/event/maintaining-health-a-personal-responsibility/
LOCATION:Chicago Marriott Schaumburg\, 50 Martingale Rd\, Schaumburg\, IL\, 60173\, United States
CATEGORIES:Nutrition
ATTACH;FMTTYPE=image/jpeg:https://thrivetherapy.info/wp-content/uploads/2017/09/iStock-658506092-scaled.jpg
END:VEVENT
BEGIN:VEVENT
DTSTART;TZID=America/Chicago:20190118T183000
DTEND;TZID=America/Chicago:20190118T193000
DTSTAMP:20260419T222657
CREATED:20181219T004029Z
LAST-MODIFIED:20181219T004526Z
UID:969-1547836200-1547839800@thrivetherapy.info
SUMMARY:Team Thrive Connection
DESCRIPTION:Opportunity to connect with like minded people about the power of nutrition. \nPlease inquire for details about our mission.
URL:https://thrivetherapy.info/event/team-thrive-connection/
LOCATION:Bevande Lounge\, 50 Martingale Rd\, Schaumburg\, 60173\, United States
CATEGORIES:Nutrition
ATTACH;FMTTYPE=image/jpeg:https://thrivetherapy.info/wp-content/uploads/2017/09/iStock-518296495-scaled.jpg
END:VEVENT
BEGIN:VEVENT
DTSTART;VALUE=DATE:20181201
DTEND;VALUE=DATE:20181202
DTSTAMP:20260419T222657
CREATED:20180530T201928Z
LAST-MODIFIED:20180530T202037Z
UID:861-1543622400-1543708799@thrivetherapy.info
SUMMARY:St. Judes Memphis Marathon
DESCRIPTION:Join Mission Team Thrive to help find cures and save lives. Please inquire for details about our mission and plans for the St. Jude’s Marathon Week-end.
URL:https://thrivetherapy.info/event/st-judes-memphis-marathon/
LOCATION:IL
CATEGORIES:Nutrition
ATTACH;FMTTYPE=image/png:https://thrivetherapy.info/wp-content/uploads/2018/05/Unknown.png
END:VEVENT
BEGIN:VEVENT
DTSTART;TZID=America/Chicago:20181107T190000
DTEND;TZID=America/Chicago:20181107T210000
DTSTAMP:20260419T222657
CREATED:20180913T192546Z
LAST-MODIFIED:20180913T192546Z
UID:876-1541617200-1541624400@thrivetherapy.info
SUMMARY:Brain Health for All Ages
DESCRIPTION:Pediatrician Dr. Bill Sears will discuss cutting edge science\, nutrition and hope for brain health. Help with the D’s: ADD/ADHD\, autism\, PTSD\, depression\, anxiety. Preventing Alzheimer’s and degenerative brain disease. Sponsored by The Juice Plus Company. \n  \nRSVP to Thrive for FREE entry.
URL:https://thrivetherapy.info/event/brain-health-for-all-ages-3/
LOCATION:Marriott Naperville\, 1801 North Naper Blvd.\, Naperville\, IL\, United States
CATEGORIES:Nervous System,Nutrition
ATTACH;FMTTYPE=image/jpeg:https://thrivetherapy.info/wp-content/uploads/2017/09/iStock-658506092-scaled.jpg
END:VEVENT
BEGIN:VEVENT
DTSTART;VALUE=DATE:20181018
DTEND;VALUE=DATE:20181021
DTSTAMP:20260419T222657
CREATED:20180915T004925Z
LAST-MODIFIED:20180915T005912Z
UID:919-1539820800-1540079999@thrivetherapy.info
SUMMARY:Nutraceuticals and Medicine Conference with JP Live
DESCRIPTION:This semi-annual event will include some of the latest information about how nutrition impacts our health. Health care professionals from all across the world will be learning together from leading experts such as Dr. David Katz\, the founding director of Yale University’s Yale-Griffin Prevention Research Center. This unique learning opportunity will serve as the kick off for the JP Live week-end\, where Mission Team Thrive will be inspired to further their Nutritional Outreach. \nPlease inquire for details about our mission.
URL:https://thrivetherapy.info/event/nutraceuticals-and-medicine-conference-with-jp-live/
LOCATION:Tampa\, FL
CATEGORIES:Nervous System,Nutrition
ATTACH;FMTTYPE=image/jpeg:https://thrivetherapy.info/wp-content/uploads/2017/09/iStock-658506092-scaled.jpg
END:VEVENT
BEGIN:VEVENT
DTSTART;TZID=America/Chicago:20180915T110000
DTEND;TZID=America/Chicago:20180915T180000
DTSTAMP:20260419T222657
CREATED:20180913T192801Z
LAST-MODIFIED:20180913T192801Z
UID:880-1537009200-1537034400@thrivetherapy.info
SUMMARY:Soder World Wellness Festival
DESCRIPTION:Please join us and enjoy sample treatments\, wellness and spiritual lectures\, gallery readings\, vendors and healers\, salt cave sessions\, movement classes\, guided meditations\, live music\, art\, healthy food and more! \nMission Team Thrive has been invited to showcase information about whole food nutrition including the Juice Plus products as a foundational support for health. This event is in partnership with Soder World\, and will support the DuPage PADS program. Soder World is a non-denominational wellness center that provides alternative health and holistic services to our community to help balance the body\, mind and soul. \nPlease check out the flyer below for further details. OpenHouseSchedule2018Final
URL:https://thrivetherapy.info/event/soder-world-wellness-festival/
LOCATION:IL
CATEGORIES:Nervous System,Nutrition
ATTACH;FMTTYPE=image/png:https://thrivetherapy.info/wp-content/uploads/2018/09/SoderWorldLogo_Purple_Slacked.png
END:VEVENT
BEGIN:VEVENT
DTSTART;TZID=America/Chicago:20180913T170000
DTEND;TZID=America/Chicago:20180913T190000
DTSTAMP:20260419T222657
CREATED:20180913T192823Z
LAST-MODIFIED:20180915T011846Z
UID:891-1536858000-1536865200@thrivetherapy.info
SUMMARY:Fusion Fall Showcase
DESCRIPTION:In conjunction with Fusion Academy’s Curriculum Night\, Thrive has been invited to participate in their Fall Showcase. This Showcase will offer a learning experience for parents to explore some of the great services available in the community. Thrive will be sharing information about our philosophy\, the concepts of Reflex Integration\, Irlen and Foundational Nutrition. \nThis is a private event\, yet please inquire about learning opportunities that Thrive can tailor to your needs.
URL:https://thrivetherapy.info/event/fusion-fall-showcase/
LOCATION:Fusion\, 3041 Butterfield Road S\, Oak Brook\, IL\, 60523
CATEGORIES:Irlen,Nervous System,Nutrition,RMTi
ATTACH;FMTTYPE=image/png:https://thrivetherapy.info/wp-content/uploads/2018/09/Unknown.png
END:VEVENT
BEGIN:VEVENT
DTSTART;TZID=America/Chicago:20180907T190000
DTEND;TZID=America/Chicago:20180907T210000
DTSTAMP:20260419T222657
CREATED:20180913T192846Z
LAST-MODIFIED:20180915T010029Z
UID:870-1536346800-1536354000@thrivetherapy.info
SUMMARY:What's Aging You?
DESCRIPTION:Dr. Dalzell is a nationally known nutrition and cancer expert. With advanced degrees in dietetics and holistic nutrition\, Dr. Dalzell provides critical connections between conventional and natural therapies for cancer. Her passionate message is for everyone. Teaching others how food influences our cells and our health destiny. RSVP to Thrive to reserve your spot.
URL:https://thrivetherapy.info/event/whats-aging-you/
LOCATION:IL
CATEGORIES:Nervous System,Nutrition
ATTACH;FMTTYPE=image/jpeg:https://thrivetherapy.info/wp-content/uploads/2017/09/iStock-658506092-scaled.jpg
END:VEVENT
BEGIN:VEVENT
DTSTART;VALUE=DATE:20180830
DTEND;VALUE=DATE:20180903
DTSTAMP:20260419T222657
CREATED:20180531T205427Z
LAST-MODIFIED:20180531T205427Z
UID:865-1535587200-1535932799@thrivetherapy.info
SUMMARY:Balanced Life Wellness Retreat
DESCRIPTION:I am excited to have been invited to this wonderful retreat as a guest speaker. I will be sharing some basic movement techniques that I use at Thrive\, along with information about the benefits of Whole Food Nutrition. A fun week-end of learning\, movement\, nature and self-care. Click here to learn how you can participate.
URL:https://thrivetherapy.info/event/balanced-life-wellness-retreat/
LOCATION:IL
CATEGORIES:Nervous System,Nutrition,RMTi
ATTACH;FMTTYPE=image/jpeg:https://thrivetherapy.info/wp-content/uploads/2015/07/Thrive_EHickman_headshot1_300.jpg
END:VEVENT
BEGIN:VEVENT
DTSTART;TZID=America/Chicago:20180615T190000
DTEND;TZID=America/Chicago:20180615T203000
DTSTAMP:20260419T222657
CREATED:20180530T195209Z
LAST-MODIFIED:20180530T195332Z
UID:855-1529089200-1529094600@thrivetherapy.info
SUMMARY:Food:  Fuel\, Function\, or Folly?
DESCRIPTION:Dr. Benitez is a general surgeon specializing in diseases of the breast and breast cancer. She is passionate about sharing her knowledge to help people make informed decisions about simple\, beneficial food choices every day to live a life of wellness in today’s hectic world. She feels that the first step is understanding the direct connections between nutrition and disease. RSVP to Thrive to reserve your spot.
URL:https://thrivetherapy.info/event/food-fuel-function-or-folly/
LOCATION:Marriott Naperville\, 1801 North Naper Blvd.\, Naperville\, IL\, United States
CATEGORIES:Nutrition
ATTACH;FMTTYPE=image/jpeg:https://thrivetherapy.info/wp-content/uploads/2017/09/iStock-658506092-scaled.jpg
END:VEVENT
BEGIN:VEVENT
DTSTART;TZID=America/Chicago:20180519T090000
DTEND;TZID=America/Chicago:20180519T110000
DTSTAMP:20260419T222657
CREATED:20180530T194357Z
LAST-MODIFIED:20180530T194457Z
UID:851-1526720400-1526727600@thrivetherapy.info
SUMMARY:Women's Health Care Professional Panel
DESCRIPTION:8 Women’s Health Care Professionals will speak about how Whole Food Nutrition has impacted the individuals and families they service.  They will be discussing and answering questions about how nutrition is foundational for all aspects of a person’s health and wellness.  RSVP to Thrive to reserve your spot.
URL:https://thrivetherapy.info/event/womens-health-care-professional-panel/
LOCATION:Cooper’s Corner\, 27W150 Roosevelt Road\, Winfield\, IL\, 601990
CATEGORIES:Nervous System,Nutrition
ATTACH;FMTTYPE=image/jpeg:https://thrivetherapy.info/wp-content/uploads/2017/09/iStock-658506092-scaled.jpg
END:VEVENT
BEGIN:VEVENT
DTSTART;TZID=America/Chicago:20180421T090000
DTEND;TZID=America/Chicago:20180421T120000
DTSTAMP:20260419T222657
CREATED:20180212T195527Z
LAST-MODIFIED:20180212T200746Z
UID:786-1524301200-1524312000@thrivetherapy.info
SUMMARY:Health Fair
DESCRIPTION:Thrive will be collaborating with other community organizations to help educate\, encourage and provide opportunities for leading a healthy life style.  All aspects of Thrive will be showcased at this event.
URL:https://thrivetherapy.info/event/health-fai/
LOCATION:Courts Plus\, 186 S. West Avenue\, Elmhurst\, IL\, 60126\, United States
CATEGORIES:Irlen,Nervous System,Nutrition,RMTi
ATTACH;FMTTYPE=image/jpeg:https://thrivetherapy.info/wp-content/uploads/2017/06/Thrive_storefront2_insurance.jpg
END:VEVENT
BEGIN:VEVENT
DTSTART;TZID=America/Chicago:20180412T190000
DTEND;TZID=America/Chicago:20180412T203000
DTSTAMP:20260419T222657
CREATED:20180322T192200Z
LAST-MODIFIED:20180322T192200Z
UID:825-1523559600-1523565000@thrivetherapy.info
SUMMARY:Fueling our Brains for our Best Behavior
DESCRIPTION:Gay Russell\, LCSW\, will be teaching us about How Nutrition Plays a Role in Work\, Academics\, Emotions\, Behaviors & Brain Health.  Gay is a compassionate advocate for health and happiness.  She values and educates on the importance of nutrition for a solid neurological foundation. This event is sponsored by The Juice Plus Company. \nRSVP to Thrive for FREE entry.
URL:https://thrivetherapy.info/event/fueling-our-brains-for-our-best-behavior-2/
LOCATION:Crystal Lake Holiday Inn\, 800 S Illinois Route 31\, Crystal Lake\, IL\, United States
CATEGORIES:Nervous System,Nutrition
ATTACH;FMTTYPE=image/jpeg:https://thrivetherapy.info/wp-content/uploads/2017/09/iStock-658506092-scaled.jpg
END:VEVENT
BEGIN:VEVENT
DTSTART;TZID=America/Chicago:20180409T113000
DTEND;TZID=America/Chicago:20180409T133000
DTSTAMP:20260419T222657
CREATED:20180320T131309Z
LAST-MODIFIED:20180913T195728Z
UID:812-1523273400-1523280600@thrivetherapy.info
SUMMARY:Healthy Lunch Club
DESCRIPTION:Team building for Nutritional Outreach and Mission Team Thrive \n  \nPlease inquire for details about our mission.
URL:https://thrivetherapy.info/event/healthy-lunch-club-4/
LOCATION:Hinsdale\, IL
CATEGORIES:Nutrition
ATTACH;FMTTYPE=image/jpeg:https://thrivetherapy.info/wp-content/uploads/2017/09/iStock-452657591-scaled.jpg
END:VEVENT
BEGIN:VEVENT
DTSTART;TZID=America/Chicago:20180406T183000
DTEND;TZID=America/Chicago:20180406T203000
DTSTAMP:20260419T222657
CREATED:20180320T132229Z
LAST-MODIFIED:20180322T193111Z
UID:814-1523039400-1523046600@thrivetherapy.info
SUMMARY:Team Building Event:  Brewpoint Coffee
DESCRIPTION:Team building for Nutritional Outreach and Mission Team Thrive    \n  \nPlease inquire for details about our mission.
URL:https://thrivetherapy.info/event/team-building-event-brewpoint-coffee/
LOCATION:Brewpoint Coffe\, 617 N. York Road\, Elmhurst\, IL\, 60126
CATEGORIES:Nutrition
ATTACH;FMTTYPE=image/jpeg:https://thrivetherapy.info/wp-content/uploads/2018/03/IMG_3768-e1521552134118.jpg
END:VEVENT
BEGIN:VEVENT
DTSTART;TZID=America/Chicago:20180312T113000
DTEND;TZID=America/Chicago:20180312T133000
DTSTAMP:20260419T222657
CREATED:20180212T193304Z
LAST-MODIFIED:20180212T194933Z
UID:780-1520854200-1520861400@thrivetherapy.info
SUMMARY:Healthy Lunch Club
DESCRIPTION:Team building for Nutritional Outreach and Mission Team Thrive    \n  \nBy invitation only\, inquire for details
URL:https://thrivetherapy.info/event/healthy-lunch-club-3/
LOCATION:Hinsdale\, IL
CATEGORIES:Nutrition
ATTACH;FMTTYPE=image/jpeg:https://thrivetherapy.info/wp-content/uploads/2017/09/iStock-452657591-scaled.jpg
END:VEVENT
BEGIN:VEVENT
DTSTART;TZID=America/Chicago:20180308T190000
DTEND;TZID=America/Chicago:20180308T203000
DTSTAMP:20260419T222657
CREATED:20180226T020945Z
LAST-MODIFIED:20180226T020945Z
UID:795-1520535600-1520541000@thrivetherapy.info
SUMMARY:Fueling our Brains for our Best Behavior
DESCRIPTION:Gay Russell\, LCSW\, will be teaching us about How Nutrition Plays a Role in Work\, Academics\, Emotions\, Behaviors & Brain Health.  Gay is a compassionate advocate for health and happiness.  She values and educates on the importance of nutrition for a solid neurological foundation. This event is sponsored by The Juice Plus Company. \nRSVP to Thrive for FREE entry.
URL:https://thrivetherapy.info/event/fueling-our-brains-for-our-best-behavior/
LOCATION:Chicago Marriott Schaumburg\, 50 Martingale Rd\, Schaumburg\, IL\, 60173\, United States
CATEGORIES:Nervous System,Nutrition
ATTACH;FMTTYPE=image/jpeg:https://thrivetherapy.info/wp-content/uploads/2017/09/iStock-658506092-scaled.jpg
END:VEVENT
BEGIN:VEVENT
DTSTART;TZID=America/Chicago:20180302T183000
DTEND;TZID=America/Chicago:20180302T203000
DTSTAMP:20260419T222657
CREATED:20180212T194219Z
LAST-MODIFIED:20180226T024214Z
UID:782-1520015400-1520022600@thrivetherapy.info
SUMMARY:Team Building:  Growing with the Tower Garden
DESCRIPTION:Team building for Nutritional Outreach and Mission Team Thrive    \n  \nBy invitation only\, inquire for details
URL:https://thrivetherapy.info/event/team-building-growing-with-the-tower-garden/
LOCATION:Thrive Therapy\, 322 Montrose Avenue\, Elmhurst\, IL\, 60126
CATEGORIES:Nutrition
ATTACH;FMTTYPE=image/jpeg:https://thrivetherapy.info/wp-content/uploads/2018/02/images.jpeg
END:VEVENT
BEGIN:VEVENT
DTSTART;TZID=America/Chicago:20180202T183000
DTEND;TZID=America/Chicago:20180202T203000
DTSTAMP:20260419T222657
CREATED:20180129T173345Z
LAST-MODIFIED:20180129T174311Z
UID:772-1517596200-1517603400@thrivetherapy.info
SUMMARY:Team Building with Yoga!
DESCRIPTION:Team building for Nutritional Outreach and Mission Team Thrive.   By invitation only\, inquire for details
URL:https://thrivetherapy.info/event/team-building-with-yoga/
LOCATION:Thrive Therapy\, 322 Montrose Avenue\, Elmhurst\, IL\, 60126
CATEGORIES:Nutrition
ATTACH;FMTTYPE=image/jpeg:https://thrivetherapy.info/wp-content/uploads/2017/06/Thrive_storefront2_insurance.jpg
END:VEVENT
BEGIN:VEVENT
DTSTART;TZID=America/Chicago:20180119T190000
DTEND;TZID=America/Chicago:20180119T203000
DTSTAMP:20260419T222657
CREATED:20171002T182741Z
LAST-MODIFIED:20171011T191326Z
UID:709-1516388400-1516393800@thrivetherapy.info
SUMMARY:The "Wow" is in the "Whys"
DESCRIPTION:Wendy Campbell\, an RN with experiences ranging from medical\, surgical\, psych\, pediatric\, GI lab and supervisor of E.R. and O.R.\, will be teaching us the importance of nutrition as it relates to wellness\, recovery and disease.  Confirmation of time and location of event TBD. \nRSVP to Thrive for registration.
URL:https://thrivetherapy.info/event/the-wow-is-in-the-whys/
LOCATION:IL
CATEGORIES:Nutrition
ATTACH;FMTTYPE=image/jpeg:https://thrivetherapy.info/wp-content/uploads/2017/09/iStock-658506092-scaled.jpg
END:VEVENT
BEGIN:VEVENT
DTSTART;TZID=America/Chicago:20171109T190000
DTEND;TZID=America/Chicago:20171109T203000
DTSTAMP:20260419T222657
CREATED:20171002T183447Z
LAST-MODIFIED:20171030T211233Z
UID:712-1510254000-1510259400@thrivetherapy.info
SUMMARY:Keep You and Your Family Healthy this Winter
DESCRIPTION:A healthy living lecture to educate you on building a strong immune system. Will also include information about the Juice Plus products\, a simple and easy way to get whole food nutrition. \nRSVP to Thrive for registration.
URL:https://thrivetherapy.info/event/keep-you-and-your-family-healthy-this-winter/
LOCATION:Thrive Therapy\, 322 Montrose Avenue\, Elmhurst\, IL\, 60126
CATEGORIES:Nutrition
ATTACH;FMTTYPE=image/jpeg:https://thrivetherapy.info/wp-content/uploads/2017/09/iStock-518296495-scaled.jpg
END:VEVENT
BEGIN:VEVENT
DTSTART;TZID=America/Chicago:20171103T100000
DTEND;TZID=America/Chicago:20171103T120000
DTSTAMP:20260419T222657
CREATED:20171002T015237Z
LAST-MODIFIED:20171006T200014Z
UID:677-1509703200-1509710400@thrivetherapy.info
SUMMARY:Brunch with Dr. Candace Corson
DESCRIPTION:A special opportunity to learn\, and ask questions with Dr. Candace Corson\, a graduate from Yale University Medical School\, and a leader in Integrative Medicine. Dr. Corson will be sharing some of her wonderful lecture: “Nutrition for the 21st”. Space is limited\, RSVP via Event Brite
URL:https://thrivetherapy.info/event/breakfast-with-dr-corson/
LOCATION:Harry Caray’s\, 70 Yorktown Shopping Center\, Lombard\, IL\, 60148
CATEGORIES:Nutrition
ATTACH;FMTTYPE=image/jpeg:https://thrivetherapy.info/wp-content/uploads/2017/09/iStock-658506092-scaled.jpg
END:VEVENT
BEGIN:VEVENT
DTSTART;TZID=America/Chicago:20171102T190000
DTEND;TZID=America/Chicago:20171102T203000
DTSTAMP:20260419T222657
CREATED:20170929T213359Z
LAST-MODIFIED:20171011T191220Z
UID:669-1509649200-1509654600@thrivetherapy.info
SUMMARY:Nutrition For the 21st Century
DESCRIPTION:Dr. Candace Corson\, a graduate of Yale University Medical School\, will be sharing what we need to know about nutrition in today’s world. Dr. Corson has spent the last 35 years working in Prevention\, Integrative Medicine and Chronic Illness Improvement and Reversal. This event is sponsored by The Juice Plus Company. \nRSVP to Thrive for FREE entry.
URL:https://thrivetherapy.info/event/nutrition-for-the-21st-century/
LOCATION:Tinley Park\, 18451 Convention Center Drive\, Tinley Park\, IL\, 60477
CATEGORIES:Nutrition
ATTACH;FMTTYPE=image/jpeg:https://thrivetherapy.info/wp-content/uploads/2017/09/iStock-658506092-scaled.jpg
END:VEVENT
BEGIN:VEVENT
DTSTART;TZID=America/Chicago:20171030T113000
DTEND;TZID=America/Chicago:20171030T133000
DTSTAMP:20260419T222657
CREATED:20171012T183510Z
LAST-MODIFIED:20180129T173223Z
UID:761-1509363000-1509370200@thrivetherapy.info
SUMMARY:Healthy Lunch Club
DESCRIPTION:Team building for Nutritional Outreach and Mission Team Thrive\nBy invitation only\, inquire for details \n  \nBy invitation only\, inquire for details
URL:https://thrivetherapy.info/event/healthy-lunch-club-2/
LOCATION:Hinsdale\, IL
CATEGORIES:Nutrition
ATTACH;FMTTYPE=image/jpeg:https://thrivetherapy.info/wp-content/uploads/2017/09/iStock-452657591-scaled.jpg
END:VEVENT
END:VCALENDAR