BEGIN:VCALENDAR
VERSION:2.0
PRODID:-//Thrive Therapy - ECPv6.15.20//NONSGML v1.0//EN
CALSCALE:GREGORIAN
METHOD:PUBLISH
X-WR-CALNAME:Thrive Therapy
X-ORIGINAL-URL:https://thrivetherapy.info
X-WR-CALDESC:Events for Thrive Therapy
REFRESH-INTERVAL;VALUE=DURATION:PT1H
X-Robots-Tag:noindex
X-PUBLISHED-TTL:PT1H
BEGIN:VTIMEZONE
TZID:America/Chicago
BEGIN:DAYLIGHT
TZOFFSETFROM:-0600
TZOFFSETTO:-0500
TZNAME:CDT
DTSTART:20250309T080000
END:DAYLIGHT
BEGIN:STANDARD
TZOFFSETFROM:-0500
TZOFFSETTO:-0600
TZNAME:CST
DTSTART:20251102T070000
END:STANDARD
BEGIN:DAYLIGHT
TZOFFSETFROM:-0600
TZOFFSETTO:-0500
TZNAME:CDT
DTSTART:20260308T080000
END:DAYLIGHT
BEGIN:STANDARD
TZOFFSETFROM:-0500
TZOFFSETTO:-0600
TZNAME:CST
DTSTART:20261101T070000
END:STANDARD
BEGIN:DAYLIGHT
TZOFFSETFROM:-0600
TZOFFSETTO:-0500
TZNAME:CDT
DTSTART:20270314T080000
END:DAYLIGHT
BEGIN:STANDARD
TZOFFSETFROM:-0500
TZOFFSETTO:-0600
TZNAME:CST
DTSTART:20271107T070000
END:STANDARD
END:VTIMEZONE
BEGIN:VEVENT
DTSTART;TZID=America/Chicago:20260424T090000
DTEND;TZID=America/Chicago:20260426T173000
DTSTAMP:20260424T012843
CREATED:20251024T164902Z
LAST-MODIFIED:20251026T165336Z
UID:2011-1777021200-1777224600@thrivetherapy.info
SUMMARY:RMTi Level 1 and 2 – Elmhurst\, IL
DESCRIPTION:Three-day intensive course that teaches the background\, philosophy and movements of Rhythmic Movement Training International (RMTi). Using a mixture of lecture\, research and hands-on activities\, you’ll know how to use rhythmic movements to build stronger neural connections for motor skills\, focus\, organization\, comprehension\, memory\, emotions and behavior. Includes RMTi Level One and RMTi Level Two certifications (21 CEU hours\, Illinois). No prerequisite necessary.
URL:https://thrivetherapy.info/event/rmti-level-1-and-2-elmhurst-il-14/
LOCATION:Thrive Therapy\, 322 Montrose Avenue\, Elmhurst\, IL\, 60126
ATTACH;FMTTYPE=image/jpeg:https://thrivetherapy.info/wp-content/uploads/2024/11/Thrive-Photoshoot107-scaled.jpg
END:VEVENT
END:VCALENDAR