BEGIN:VCALENDAR
VERSION:2.0
PRODID:-//Thrive Therapy - ECPv6.15.20//NONSGML v1.0//EN
CALSCALE:GREGORIAN
METHOD:PUBLISH
X-WR-CALNAME:Thrive Therapy
X-ORIGINAL-URL:https://thrivetherapy.info
X-WR-CALDESC:Events for Thrive Therapy
REFRESH-INTERVAL;VALUE=DURATION:PT1H
X-Robots-Tag:noindex
X-PUBLISHED-TTL:PT1H
BEGIN:VTIMEZONE
TZID:America/Chicago
BEGIN:DAYLIGHT
TZOFFSETFROM:-0600
TZOFFSETTO:-0500
TZNAME:CDT
DTSTART:20230312T080000
END:DAYLIGHT
BEGIN:STANDARD
TZOFFSETFROM:-0500
TZOFFSETTO:-0600
TZNAME:CST
DTSTART:20231105T070000
END:STANDARD
BEGIN:DAYLIGHT
TZOFFSETFROM:-0600
TZOFFSETTO:-0500
TZNAME:CDT
DTSTART:20240310T080000
END:DAYLIGHT
BEGIN:STANDARD
TZOFFSETFROM:-0500
TZOFFSETTO:-0600
TZNAME:CST
DTSTART:20241103T070000
END:STANDARD
BEGIN:DAYLIGHT
TZOFFSETFROM:-0600
TZOFFSETTO:-0500
TZNAME:CDT
DTSTART:20250309T080000
END:DAYLIGHT
BEGIN:STANDARD
TZOFFSETFROM:-0500
TZOFFSETTO:-0600
TZNAME:CST
DTSTART:20251102T070000
END:STANDARD
END:VTIMEZONE
BEGIN:VEVENT
DTSTART;TZID=America/Chicago:20240420T090000
DTEND;TZID=America/Chicago:20240421T173000
DTSTAMP:20260423T103903
CREATED:20231126T234521Z
LAST-MODIFIED:20231126T234523Z
UID:1589-1713603600-1713720600@thrivetherapy.info
SUMMARY:RMTi Face the Fear - Elmhurst\, IL
DESCRIPTION:Two-day intensive course that teaches advanced Rhythmic Movement Training International (RMTi) movements used to optimize neural development and access higher cortical centers. Parents and professionals (14 CEU hours\, Illinois) will discover the impact of reflexes on language\, maturity\, confidence and self-esteem. Expect to learn\, practice and refine your skills.Pre-requisite: RMTi Level One and RMTi Level Two.
URL:https://thrivetherapy.info/event/rmti-face-the-fear-elmhurst-il-4/
LOCATION:Thrive Therapy\, 322 Montrose Avenue\, Elmhurst\, IL\, 60126
CATEGORIES:Nervous System,RMTi
ATTACH;FMTTYPE=image/jpeg:https://thrivetherapy.info/wp-content/uploads/2017/09/Thrive_homepic5_1140x950.jpg
END:VEVENT
END:VCALENDAR