BEGIN:VCALENDAR
VERSION:2.0
PRODID:-//Thrive Therapy - ECPv6.15.20//NONSGML v1.0//EN
CALSCALE:GREGORIAN
METHOD:PUBLISH
X-ORIGINAL-URL:https://thrivetherapy.info
X-WR-CALDESC:Events for Thrive Therapy
REFRESH-INTERVAL;VALUE=DURATION:PT1H
X-Robots-Tag:noindex
X-PUBLISHED-TTL:PT1H
BEGIN:VTIMEZONE
TZID:America/Chicago
BEGIN:DAYLIGHT
TZOFFSETFROM:-0600
TZOFFSETTO:-0500
TZNAME:CDT
DTSTART:20220313T080000
END:DAYLIGHT
BEGIN:STANDARD
TZOFFSETFROM:-0500
TZOFFSETTO:-0600
TZNAME:CST
DTSTART:20221106T070000
END:STANDARD
BEGIN:DAYLIGHT
TZOFFSETFROM:-0600
TZOFFSETTO:-0500
TZNAME:CDT
DTSTART:20230312T080000
END:DAYLIGHT
BEGIN:STANDARD
TZOFFSETFROM:-0500
TZOFFSETTO:-0600
TZNAME:CST
DTSTART:20231105T070000
END:STANDARD
BEGIN:DAYLIGHT
TZOFFSETFROM:-0600
TZOFFSETTO:-0500
TZNAME:CDT
DTSTART:20240310T080000
END:DAYLIGHT
BEGIN:STANDARD
TZOFFSETFROM:-0500
TZOFFSETTO:-0600
TZNAME:CST
DTSTART:20241103T070000
END:STANDARD
END:VTIMEZONE
BEGIN:VEVENT
DTSTART;TZID=America/Chicago:20230930T090000
DTEND;TZID=America/Chicago:20231001T173000
DTSTAMP:20260423T180354
CREATED:20221118T040404Z
LAST-MODIFIED:20221119T171702Z
UID:1386-1696064400-1696181400@thrivetherapy.info
SUMMARY:RMTi Face the Fear - Elmhurst\, IL
DESCRIPTION:Two-day intensive course that teaches advanced Rhythmic Movement Training International (RMTi) movements used to optimize neural development and access higher cortical centers. Parents and professionals (14 CEU hours\, Illinois) will discover the impact of reflexes on language\, maturity\, confidence and self-esteem. Expect to learn\, practice and refine your skills.Pre-requisite: RMTi Level One and RMTi Level Two.
URL:https://thrivetherapy.info/event/rmti-face-the-fear-elmhurst-il-3/
CATEGORIES:RMTi
ATTACH;FMTTYPE=image/jpeg:https://thrivetherapy.info/wp-content/uploads/2017/09/Thrive_homepic5_1140x950.jpg
END:VEVENT
END:VCALENDAR