BEGIN:VCALENDAR
VERSION:2.0
PRODID:-//Thrive Therapy - ECPv6.15.20//NONSGML v1.0//EN
CALSCALE:GREGORIAN
METHOD:PUBLISH
X-ORIGINAL-URL:https://thrivetherapy.info
X-WR-CALDESC:Events for Thrive Therapy
REFRESH-INTERVAL;VALUE=DURATION:PT1H
X-Robots-Tag:noindex
X-PUBLISHED-TTL:PT1H
BEGIN:VTIMEZONE
TZID:America/Chicago
BEGIN:DAYLIGHT
TZOFFSETFROM:-0600
TZOFFSETTO:-0500
TZNAME:CDT
DTSTART:20210314T080000
END:DAYLIGHT
BEGIN:STANDARD
TZOFFSETFROM:-0500
TZOFFSETTO:-0600
TZNAME:CST
DTSTART:20211107T070000
END:STANDARD
BEGIN:DAYLIGHT
TZOFFSETFROM:-0600
TZOFFSETTO:-0500
TZNAME:CDT
DTSTART:20220313T080000
END:DAYLIGHT
BEGIN:STANDARD
TZOFFSETFROM:-0500
TZOFFSETTO:-0600
TZNAME:CST
DTSTART:20221106T070000
END:STANDARD
BEGIN:DAYLIGHT
TZOFFSETFROM:-0600
TZOFFSETTO:-0500
TZNAME:CDT
DTSTART:20230312T080000
END:DAYLIGHT
BEGIN:STANDARD
TZOFFSETFROM:-0500
TZOFFSETTO:-0600
TZNAME:CST
DTSTART:20231105T070000
END:STANDARD
END:VTIMEZONE
BEGIN:VEVENT
DTSTART;TZID=America/Chicago:20221202T090000
DTEND;TZID=America/Chicago:20221202T170000
DTSTAMP:20260424T062850
CREATED:20220215T153938Z
LAST-MODIFIED:20221119T171517Z
UID:1291-1669971600-1670000400@thrivetherapy.info
SUMMARY:RMTi Rhythm\, Movement and Play - Vero Beach\, FL
DESCRIPTION:One-day introductory course that teaches basic Rhythmic Movement Training International (RMTi) movements and how to use them with young children with learning\, emotional and behavioral difficulties. Hands-on learning is perfect for parents\, teachers\, educational support staff and therapists (7 CEU hours\, Illinois) who want new strategies to use.\nNo prerequisite necessary.\n\nPlease click here for more information and to sign up for the course.
URL:https://thrivetherapy.info/event/rmti-rhythm-movement-and-play-13-elmhurst-il/
LOCATION:Vero Beach\, 470 Coconut Palm Road\, Vero Beach\, FL\, 32963\, United States
ATTACH;FMTTYPE=image/jpeg:https://thrivetherapy.info/wp-content/uploads/2019/04/Unknown-1-2.jpeg
END:VEVENT
END:VCALENDAR